BEGIN:VCALENDAR
VERSION:2.0
PRODID:-//My Community Diary//iCal Event//EN
CALSCALE:GREGORIAN
METHOD:PUBLISH
BEGIN:VEVENT
UID:dad3b103-1db3-4e24-a52a-fa072acaf016
DTSTAMP:20260421T211544Z
DTSTART;VALUE=DATE:20260828
DTEND;VALUE=DATE:20260829
SUMMARY:Newcastle Outdoor Adventure & Lifestyle Expo
DESCRIPTION:Adventure starts here ! The Newcastle Outdoor Adventure & Lifestyle Expo is your gateway to the ultimate outdoor experience. Whether you're dreaming of a coastal escape\, gearing up for rugged trails\, or planning the perfect family getaway\, this is where your next challenge begins.\nDiscover cutting-edge caravans\, campers\, and 4×4 vehicles alongside the latest camping gear\, lifestyle products\, and travel inspiration all at one location. With exclusive show deals\, live entertainment\, and activities for all ages\, it's more than an event it's your launchpad for adventure.
LOCATION:\, Griffiths Road\, Broadmeadow\, NSW 2292\, NSW\, 2292
RRULE:FREQ=DAILY;INTERVAL=1;UNTIL=20260830T000000Z
END:VEVENT
END:VCALENDAR
