BEGIN:VCALENDAR
VERSION:2.0
PRODID:-//My Community Diary//iCal Event//EN
CALSCALE:GREGORIAN
METHOD:PUBLISH
BEGIN:VEVENT
UID:7561497a-775d-4919-9e98-e7b227d7cc16
DTSTAMP:20260421T224242Z
DTSTART;VALUE=DATE:20260811
DTEND;VALUE=DATE:20260812
SUMMARY:Newcastle Music Festival
DESCRIPTION:Newcastle Music Festival is an annual music festival held in Newcastle. Brilliant locals and inspiring guests from around the world feature in classical\, jazz and world music concerts.\n\nCheck the website for details.\n\nImage credits: Orava Quartet - Dylan Jones Photography – courtesy of Universal Music | Bronwyn Douglass - Sasha Dobies at Sherbet Birdie Photography | Hourglass Ensemble – David Collins | Sue Carson – Edwina Richards | Erin Sweetman – Kurt Sneddon
LOCATION:\, Various locations Various buildings\, Newcastle\, NSW 2300\, NSW\, 2300
RRULE:FREQ=DAILY;INTERVAL=1;UNTIL=20260813T000000Z
END:VEVENT
END:VCALENDAR
