BEGIN:VCALENDAR
VERSION:2.0
PRODID:-//My Community Diary//iCal Event//EN
CALSCALE:GREGORIAN
METHOD:PUBLISH
BEGIN:VEVENT
UID:3e88d008-b2d8-459f-9c0d-8e8133daa788
DTSTAMP:20260421T225605Z
DTSTART;VALUE=DATE:20260808
DTEND;VALUE=DATE:20260809
SUMMARY:Newcastle Music Festival
DESCRIPTION:Newcastle Music Festival is an annual music festival held in Newcastle. Brilliant locals and inspiring guests from around the world feature in classical\, jazz and world music concerts.\n\nCheck the website for details.\n\nImage credits: Orava Quartet - Dylan Jones Photography – courtesy of Universal Music | Bronwyn Douglass - Sasha Dobies at Sherbet Birdie Photography | Hourglass Ensemble – David Collins | Sue Carson – Edwina Richards | Erin Sweetman – Kurt Sneddon
LOCATION:\, Various locations Various buildings\, Newcastle\, NSW 2300\, NSW\, 2300
RRULE:FREQ=DAILY;INTERVAL=1;UNTIL=20260810T000000Z
END:VEVENT
END:VCALENDAR
