BEGIN:VCALENDAR
VERSION:2.0
PRODID:-//My Community Diary//iCal Event//EN
CALSCALE:GREGORIAN
METHOD:PUBLISH
BEGIN:VEVENT
UID:57492781-3cca-4b60-9f65-23dc6a288870
DTSTAMP:20260422T054229Z
DTSTART;VALUE=DATE:20260830
DTEND;VALUE=DATE:20260831
SUMMARY:Newcastle Jazz Festival
DESCRIPTION:Newcastle Jazz Festival has earned an enviable reputation among music fans as a regular annual event and as such attracts people from all states in Australia as well as New Zealand.  \n\nThe Newcastle Jazz Festival will showcase a variety of bands playing a wide range of styles to cater for every taste.  They will be collaborating with NIMA to involve and encourage younger musicians to perform.\n\nCheck out the website for further information/details.
LOCATION:\, Newcastle\, NSW 2300\, NSW\, 2300
RRULE:FREQ=DAILY;INTERVAL=1;UNTIL=20260901T000000Z
END:VEVENT
END:VCALENDAR
