BEGIN:VCALENDAR
VERSION:2.0
PRODID:-//My Community Diary//iCal Event//EN
CALSCALE:GREGORIAN
METHOD:PUBLISH
BEGIN:VEVENT
UID:e973b046-047b-45d7-8fb2-791e945a2a4b
DTSTAMP:20260422T015728Z
DTSTART;VALUE=DATE:20260829
DTEND;VALUE=DATE:20260830
SUMMARY:Newcastle Jazz Festival
DESCRIPTION:Newcastle Jazz Festival has earned an enviable reputation among music fans as a regular annual event and as such attracts people from all states in Australia as well as New Zealand.  \n\nThe Newcastle Jazz Festival will showcase a variety of bands playing a wide range of styles to cater for every taste.  They will be collaborating with NIMA to involve and encourage younger musicians to perform.\n\nCheck out the website for further information/details.
LOCATION:\, Newcastle\, NSW 2300\, NSW\, 2300
RRULE:FREQ=DAILY;INTERVAL=1;UNTIL=20260831T000000Z
END:VEVENT
END:VCALENDAR
