BEGIN:VCALENDAR
VERSION:2.0
PRODID:-//My Community Diary//iCal Event//EN
CALSCALE:GREGORIAN
METHOD:PUBLISH
BEGIN:VEVENT
UID:19d88e64-1523-4ef6-97ec-eec73d2db2fb
DTSTAMP:20260421T211401Z
DTSTART;VALUE=DATE:20260828
DTEND;VALUE=DATE:20260829
SUMMARY:Newcastle Jazz Festival
DESCRIPTION:Newcastle Jazz Festival has earned an enviable reputation among music fans as a regular annual event and as such attracts people from all states in Australia as well as New Zealand.  \n\nThe Newcastle Jazz Festival will showcase a variety of bands playing a wide range of styles to cater for every taste.  They will be collaborating with NIMA to involve and encourage younger musicians to perform.\n\nCheck out the website for further information/details.
LOCATION:\, Newcastle\, NSW 2300\, NSW\, 2300
RRULE:FREQ=DAILY;INTERVAL=1;UNTIL=20260830T000000Z
END:VEVENT
END:VCALENDAR
