BEGIN:VCALENDAR
VERSION:2.0
PRODID:-//My Community Diary//iCal Event//EN
CALSCALE:GREGORIAN
METHOD:PUBLISH
BEGIN:VEVENT
UID:a80bfe4a-934a-4645-a1b4-a0e7a3ef3b19
DTSTAMP:20260422T021917Z
DTSTART;VALUE=DATE:20260627
DTEND;VALUE=DATE:20260628
SUMMARY:Newcastle Cystic Fibrosis Race Day
DESCRIPTION:Come along to Newcastle Racecourse for the Newcastle Cystic Fibrosis Race Day\, proudly supported by Peabody\, a powerful day where racing excitement meets heartfelt purpose.\n\nWear red\, add a rose to your outfit\, and be part of a shared experience that brings our community together in support of those living with cystic fibrosis. From the colour and energy trackside\, to the moments shared with friends and family\, this is a race day that truly means something.\n\nThe Newcastle Cystic Fibrosis Trackside Marquee function provides a welcoming space to gather\, connect and enjoy the day while contributing to an important cause.\n\nTogether\, help to raise vital awareness and funds\, stand united in the race for better treatments and a brighter future for those affected by Cystic Fibrosis.\n\nGet your tickets now for a race day that truly makes a difference.\n\nEntry Cost\nAll tickets $20 
LOCATION:\, Darling Street\, Broadmeadow\, NSW 2292\, NSW\, 2292
END:VEVENT
END:VCALENDAR
