BEGIN:VCALENDAR
VERSION:2.0
PRODID:-//My Community Diary//iCal Event//EN
CALSCALE:GREGORIAN
METHOD:PUBLISH
BEGIN:VEVENT
UID:496f5c14-af25-4155-aead-66c455bc3093
DTSTAMP:20260422T150502Z
DTSTART;VALUE=DATE:20270129
DTEND;VALUE=DATE:20270130
SUMMARY:Newcastle Caravan Lifestyle Expo
DESCRIPTION:Newcastle Caravan Lifestyle Expo is on for three big days\, with over 150 exhibitors\, this is the ultimate way to check out what caravan and camping is all about.\n\nThe Newcastle Expo showcases the latest in caravans\, motorhomes\, campervans\, camper trailers\, tents\, caravan and camping equipment\, touring accessories and caravan and holiday parks all in one great location.\n \nIt’s the perfect place to compare and discuss all aspects of the caravan and camping industry\, gear up for your next adventure and speak to the expert exhibitors who are on hand to provide you with all the information you will need to get you on the road.\n \nThere’s so many reasons to come along.\n\nEntry Cost\nAdult $16 \nConcession $12 \nChild $0  - 16 and under are free\, when accompanied by an adult
LOCATION:\, Brown Road\, Broadmeadow\, NSW 2292\, NSW\, 2292
RRULE:FREQ=DAILY;INTERVAL=1;UNTIL=20270131T000000Z
END:VEVENT
END:VCALENDAR
