BEGIN:VCALENDAR
VERSION:2.0
PRODID:-//My Community Diary//iCal Event//EN
CALSCALE:GREGORIAN
METHOD:PUBLISH
BEGIN:VEVENT
UID:1960ac18-03e0-4a35-b1fc-c521f3d6280a
DTSTAMP:20260422T005007Z
DTSTART;VALUE=DATE:20261231
DTEND;VALUE=DATE:20270101
SUMMARY:New Year's Eve at The Entrance
DESCRIPTION:Celebrate New Year's Eve at The Entrance. Free Family Fun by the Water!\n\nThe Entrance is set to farewell 2025 in spectacular style as Memorial Park transforms into a vibrant waterfront celebration filled with music\, entertainment and fireworks\n\n Live Music Line-up includes Pilot Buffalo\, Toby Wells Band\, Baxter's Revenge and Spicy Margarita.\n\nPlus\, enjoy delicious eats from food trucks and market stalls. Roving performers and amusements for all ages. Fun kids' activities to keep the little ones entertained.\n\nWatch the night sky burst into colour with a dazzling fireworks display to welcome 2026.
LOCATION:\, 46 Marine Parade\, The Entrance\, NSW 2261\, NSW\, 2261
RRULE:FREQ=DAILY;INTERVAL=1;UNTIL=20270102T000000Z
END:VEVENT
END:VCALENDAR
