BEGIN:VCALENDAR
VERSION:2.0
PRODID:-//My Community Diary//iCal Event//EN
CALSCALE:GREGORIAN
METHOD:PUBLISH
BEGIN:VEVENT
UID:2ce0932b-3c52-40fa-80bb-05539a40b89f
DTSTAMP:20260422T002839Z
DTSTART;VALUE=DATE:20261231
DTEND;VALUE=DATE:20270101
SUMMARY:New Year's Eve - Countdown to New Year
DESCRIPTION:Get ready for a night of music\, memories\, and community connection at Narrandera New Year's celebration!\n\nThis vibrant event features a high-energy music countdown from the 1980s to 2027\, celebrating the hits you love and the moments they've defined. Designed especially for adults aged 25 to 40\, but welcoming everyone. It's about bringing people together through shared experiences\, great food\, and unforgettable vibes.\n\nExplore a diverse range of multicultural food vendors showcasing the rich flavours of our local community. With visible security\, strong safety protocols\, and small-bus transport options being explored\, you can relax and enjoy the night with confidence.\n\nNarrandera's New Year's Eve isn't just an event\, it's a chance to reconnect\, celebrate our community\, and make lasting memories.\n\nDon't miss your opportunity to be part of something special. Grab your friends\, bring the family\, or come along solo—everyone's welcome!
LOCATION:\, Elizabeth St\, Narrandera\, NSW 2700\, NSW\, 2700
END:VEVENT
END:VCALENDAR
