BEGIN:VCALENDAR
VERSION:2.0
PRODID:-//My Community Diary//iCal Event//EN
CALSCALE:GREGORIAN
METHOD:PUBLISH
BEGIN:VEVENT
UID:1af09cfe-14a9-45fa-8d2f-ba52cdb27dc0
DTSTAMP:20260422T021931Z
DTSTART;VALUE=DATE:20260611
DTEND;VALUE=DATE:20260612
SUMMARY:New Old School
DESCRIPTION:New Old School brings together seven contemporary painters who treat art history as a living companion rather than a distant legacy. Engaging in a "conversation across time"\, the artists reimagine historical forms\, materials\, and figures to explore how the past persists within the present.\n\nBalancing reverence and reinvention\, the exhibition celebrates painting's enduring vitality and complex history.\n\nThis exhibition has been curated by Chelsea Lehmann and Luke Thurgate.
LOCATION:\, 230 High Street\, Maitland\, NSW 2320\, NSW\, 2320
RRULE:FREQ=DAILY;INTERVAL=1;UNTIL=20260613T000000Z
END:VEVENT
END:VCALENDAR
