BEGIN:VCALENDAR
VERSION:2.0
PRODID:-//My Community Diary//iCal Event//EN
CALSCALE:GREGORIAN
METHOD:PUBLISH
BEGIN:VEVENT
UID:62a1824d-2485-4ea0-8dae-bad577328813
DTSTAMP:20260421T224103Z
DTSTART;VALUE=DATE:20260513
DTEND;VALUE=DATE:20260514
SUMMARY:New Old School
DESCRIPTION:New Old School brings together seven contemporary painters who treat art history as a living companion rather than a distant legacy. Engaging in a "conversation across time"\, the artists reimagine historical forms\, materials\, and figures to explore how the past persists within the present.\n\nBalancing reverence and reinvention\, the exhibition celebrates painting's enduring vitality and complex history.\n\nThis exhibition has been curated by Chelsea Lehmann and Luke Thurgate.
LOCATION:\, 230 High Street\, Maitland\, NSW 2320\, NSW\, 2320
RRULE:FREQ=DAILY;INTERVAL=1;UNTIL=20260515T000000Z
END:VEVENT
END:VCALENDAR
