BEGIN:VCALENDAR
VERSION:2.0
PRODID:-//My Community Diary//iCal Event//EN
CALSCALE:GREGORIAN
METHOD:PUBLISH
BEGIN:VEVENT
UID:ad1abe1c-8c50-444c-87b4-d4e815b13ddf
DTSTAMP:20260421T225730Z
DTSTART;VALUE=DATE:20261103
DTEND;VALUE=DATE:20261104
SUMMARY:New England Garden Festival - Armidale
DESCRIPTION:The New England Garden Festival (NEGF) will be held at the Armidale Racecourse\, together with New England Open Garden Trail in towns of the beautiful New England Region.\n\nStay tuned for the 2026 Open Garden locations\, dates and information.\n\nThe festival encompasses all those gardening activities that gardeners love to see and do. Stalls\, stalls and more stalls with plants\, gardening tools and equipment\, gardening products\, garden sculptures and everything gardeners dream of - and more!\n\nWorkshops and demonstrations will be available so gardeners can learn and improve their gardening skills and knowledge. It is a real community event that includes many local organisations.\n\nStunning private gardens will be open and accessible by car.  And the icing on the cake – live music\, food vans and coffee!\n\nEntry Cost\nAll tickets $10  - Entry $10\nWorkshops and demonstrations prices are to be confirmed.
LOCATION:\, 12 Barney St\, Armidale\, NSW 2350\, NSW\, 2350
RRULE:FREQ=DAILY;INTERVAL=1;UNTIL=20261105T000000Z
END:VEVENT
END:VCALENDAR
