BEGIN:VCALENDAR
VERSION:2.0
PRODID:-//My Community Diary//iCal Event//EN
CALSCALE:GREGORIAN
METHOD:PUBLISH
BEGIN:VEVENT
UID:fe097d73-2116-4829-8469-e46b65937bb2
DTSTAMP:20260421T224205Z
DTSTART;VALUE=DATE:20261218
DTEND;VALUE=DATE:20261219
SUMMARY:Nepean Growers and Markets Market
DESCRIPTION:Join them every Friday at The Orchard for the Nepean Growers and Makers Market — a vibrant weekly market celebrating fresh\, local and handmade.\n\nThis community-focused market showcases farm-fresh produce\, artisan foods\, and beautifully handcrafted goods from talented local growers and makers. Set amongst the picturesque grounds of The Orchard\, it's the perfect way to shop local\, support small businesses\, and enjoy a relaxed Friday morning atmosphere.\n\nThroughout the year\, they'll also host specialty themed market days\, creating opportunities for additional products and unique experiences to join our regular line-up.\n\nCome along\, meet the makers\, stock up on fresh produce\, and be part of something special in the Nepean region.
LOCATION:\, Tench Avenue\, Jamisontown\, NSW 2750\, NSW\, 2750
RRULE:FREQ=DAILY;INTERVAL=1;UNTIL=20261220T000000Z
END:VEVENT
END:VCALENDAR
