BEGIN:VCALENDAR
VERSION:2.0
PRODID:-//My Community Diary//iCal Event//EN
CALSCALE:GREGORIAN
METHOD:PUBLISH
BEGIN:VEVENT
UID:0121205e-bf6e-47b1-8eb2-c329b2f9ebe0
DTSTAMP:20260422T072238Z
DTSTART;VALUE=DATE:20260428
DTEND;VALUE=DATE:20260429
SUMMARY:Nathan Cavaleri
DESCRIPTION:From child prodigy to cancer survivor\, from global stages to mental-health collapse\, Nathan Cavaleri's journey is anything but ordinary. By 12\, he was at the center of a bidding war between the record labels of Michael Jackson\, Prince\, and Madonna. By 16\, he'd toured with B.B. King\, played the Kennedy Center for the Clintons\, and shared stages with icons like Etta James and Bonnie Raitt.\n\nYet behind the spotlight\, a quieter struggle was unfolding. Growing Pains isn't about fame but the human challenges beneath it — identity\, expectation\, and the long road back to yourself.\n\nIn this intimate solo show\, Nathan weaves story and song to trace his path from Campbelltown busker to international stardom\, through anxiety\, burnout\, and the rediscovery of purpose. Raw\, funny\, and uplifting\, it's a reckoning with the highs\, lows\, and healing that shape a life.\n\nSupporting Nathan are Wagga's emerging musicians\, the Plug and Play participants.  After months of jam sessions\, workshops\, mentoring\, and behind-the-scenes learning\, these young artists are ready to share their progress with a live audience. Experience the passion\, growth\, and thrill of performance as they showcase what Plug and Play is all about — right before one of Australia's finest.\n\nEntry Cost\nAll tickets $35  - Adult $45.00\nCivic Theatre Member $40.00\nUnder 30 years old $35.00
LOCATION:\, 8 Cross Street\, Wagga Wagga\, NSW 2650\, NSW\, 2650
END:VEVENT
END:VCALENDAR
