BEGIN:VCALENDAR
VERSION:2.0
PRODID:-//My Community Diary//iCal Event//EN
CALSCALE:GREGORIAN
METHOD:PUBLISH
BEGIN:VEVENT
UID:8ad7c1e4-45a3-440c-9012-17ceb9fdfb4b
DTSTAMP:20260422T000636Z
DTSTART;VALUE=DATE:20261024
DTEND;VALUE=DATE:20261025
SUMMARY:Narrandera Spring Fair
DESCRIPTION:Come and celebrate spring in Narrandera with a vibrant fair on East Street\, Bolton Street and Victoria Square.\n\nThe Narrandera Spring Fair is a free community event organised by Narrandera Business Group and is proudly funded by the NSW Government via the Open Streets Program. Major Sponsors: Narrandera Shire Council and Narrrandera Ex-Servicemen's Club.
LOCATION:\, East Street\, Narrandera\, NSW 2700\, NSW\, 2700
END:VEVENT
END:VCALENDAR
