BEGIN:VCALENDAR
VERSION:2.0
PRODID:-//My Community Diary//iCal Event//EN
CALSCALE:GREGORIAN
METHOD:PUBLISH
BEGIN:VEVENT
UID:15e848fe-7a19-451f-9040-462a460542e1
DTSTAMP:20260422T022514Z
DTSTART;VALUE=DATE:20260423
DTEND;VALUE=DATE:20260424
SUMMARY:Nacho Thursdays at Chido Cantina
DESCRIPTION:Thursdays at Chido Cantina\, Lennox Head = sorted.\nSwing by for special nachos paired with your pick of a frozen cocktail\, schooner of Cali Cream\, a glass of house wine\, or a soft drink.\n\nNachos. Drinks. Zero regrets. Yum indeed.
LOCATION:\, 62 Ballina Street\, Lennox Head\, NSW 2478\, NSW\, 2478
RRULE:FREQ=DAILY;INTERVAL=1;UNTIL=20260425T000000Z
END:VEVENT
END:VCALENDAR
