BEGIN:VCALENDAR
VERSION:2.0
PRODID:-//My Community Diary//iCal Event//EN
CALSCALE:GREGORIAN
METHOD:PUBLISH
BEGIN:VEVENT
UID:9fbc571f-e5f1-4c30-9be3-ab0c09522c8c
DTSTAMP:20260421T224255Z
DTSTART;VALUE=DATE:20260725
DTEND;VALUE=DATE:20260726
SUMMARY:Nabiac Farmers Market
DESCRIPTION:Nabiac Farmers Market is held on the last Saturday of every month at the Nabiac Showground. \n\nStock up on seedlings for your vegetable patch and meet your local growers and producers who make such a variety of gourmet goodies available for you. \n\nTaste the organic coffee\, new gluten-free bakery with freshly baked biscuits and cakes\, honey\, goat milk beauty products\, sourdough bread\, nuts\, gingerbread\, fresh cut flowers\, confectionery\, regional wines\, freshly laid eggs\, seedlings\, beef products direct from the producer\, delicious cakes\, fruit and vegetables\, olives\, local artisans and music to entertain you while you browse.\n\nSo come to Nabiac\, be early for the best pick\, have a coffee and sample the famous barbecue too.
LOCATION:\, Showground Lane\, Nabiac\, NSW 2312\, NSW\, 2312
RRULE:FREQ=DAILY;INTERVAL=1;UNTIL=20260727T000000Z
END:VEVENT
END:VCALENDAR
