BEGIN:VCALENDAR
VERSION:2.0
PRODID:-//My Community Diary//iCal Event//EN
CALSCALE:GREGORIAN
METHOD:PUBLISH
BEGIN:VEVENT
UID:eaf3c5f4-ddf0-49c3-94ec-02f74c5080a7
DTSTAMP:20260422T002824Z
DTSTART;VALUE=DATE:20260627
DTEND;VALUE=DATE:20260628
SUMMARY:Nabiac Farmers Market
DESCRIPTION:Nabiac Farmers Market is held on the last Saturday of every month at the Nabiac Showground. \n\nStock up on seedlings for your vegetable patch and meet your local growers and producers who make such a variety of gourmet goodies available for you. \n\nTaste the organic coffee\, new gluten-free bakery with freshly baked biscuits and cakes\, honey\, goat milk beauty products\, sourdough bread\, nuts\, gingerbread\, fresh cut flowers\, confectionery\, regional wines\, freshly laid eggs\, seedlings\, beef products direct from the producer\, delicious cakes\, fruit and vegetables\, olives\, local artisans and music to entertain you while you browse.\n\nSo come to Nabiac\, be early for the best pick\, have a coffee and sample the famous barbecue too.
LOCATION:\, Showground Lane\, Nabiac\, NSW 2312\, NSW\, 2312
RRULE:FREQ=DAILY;INTERVAL=1;UNTIL=20260629T000000Z
END:VEVENT
END:VCALENDAR
