BEGIN:VCALENDAR
VERSION:2.0
PRODID:-//My Community Diary//iCal Event//EN
CALSCALE:GREGORIAN
METHOD:PUBLISH
BEGIN:VEVENT
UID:e43f835d-bb66-4b67-a545-9640fb745de3
DTSTAMP:20260424T100609Z
DTSTART;VALUE=DATE:20260724
DTEND;VALUE=DATE:20260725
SUMMARY:My Leonard Cohen - Wyong
DESCRIPTION:D'Arrietta and his band provide gutsy and arresting interpretations of Cohen's powerful works\, framed by a personal narrative. The stories give an insight into Cohen's life and the motivations behind the songs\, with a sprinkling of laconic humour.\n\nFew bodies of musical work rouse\, seduce and are of such great solace as that of the great singer songwriter Leonard Cohen. Soulful lyrics are laced with raw emotion and sheer se-ductiveness. D'Arrietta's arrangements add an uplifting\, upbeat feel.\n\nFor two decades\, Stewart D'Arrietta and his collaborators have brought their own musical personality to the works of great songwriters\, including Tom Waits\, John Lennon and Randy Newman\, and have received praise for shows in Australia and overseas.\n\nMy Leonard Cohen was the toast of the Edinburgh Fringe Festival 2016 and 2017\, with sold out shows and rave reviews from critics and fans alike.\n\nExpect Cohen's best\, including the heartrending Suzanne\, the iconic Tower Of Song\, the desperately sensual I'm Your Man\, and the mournful\, but mighty Hallelujah - all delivered as you've never heard them before.
LOCATION:\, 19 Margaret Street\, Wyong\, NSW 2259\, NSW\, 2259
END:VEVENT
END:VCALENDAR
