BEGIN:VCALENDAR
VERSION:2.0
PRODID:-//My Community Diary//iCal Event//EN
CALSCALE:GREGORIAN
METHOD:PUBLISH
BEGIN:VEVENT
UID:b1bd68db-23d1-4e62-8b82-e1ff75c0c9dd
DTSTAMP:20260421T225555Z
DTSTART;VALUE=DATE:20260430
DTEND;VALUE=DATE:20260501
SUMMARY:Musical Bingo at the Australian Hotel
DESCRIPTION:Get ready for a toe-tapping twist on your typical trivia night! Join the fun at the Australian Hotel in Ballina every Thursday evening for Musical Bingo — where the numbers are out\, and the beats are in.\n\nIt's free to play\, fun for all ages (18+ for prizes)\, and guaranteed to bring the good vibes and great tunes.\n\nWhy not make an evening of it! The bistro is open for dinner\, with drinks flowing from the bar. Or take advantage of the Thursday special - free house drink (beer/wine/soft drink) with any burger purchased.\n\nNo bookings needed\, just register before 7pm and bring your music knowledge\, your mates\, and your lucky charm.
LOCATION:\, 103 River St\, Ballina\, NSW 2478\, NSW\, 2478
RRULE:FREQ=DAILY;INTERVAL=1;UNTIL=20260502T000000Z
END:VEVENT
END:VCALENDAR
