BEGIN:VCALENDAR
VERSION:2.0
PRODID:-//My Community Diary//iCal Event//EN
CALSCALE:GREGORIAN
METHOD:PUBLISH
BEGIN:VEVENT
UID:05bf2713-3695-4506-b316-ae1cb43c85f7
DTSTAMP:20260422T002758Z
DTSTART;VALUE=DATE:20270607
DTEND;VALUE=DATE:20270608
SUMMARY:Music Trivia at Son Of A Gun Diner
DESCRIPTION:A fun night of games\, prizes\, trivia\, sing a longs and dancing.  \n\nFeaturing music trivia from the past seventy years with new topics weekly.  Free to play\, bookings recomended but not required.
LOCATION:\, 66 Beaumont Street\, Hamilton\, NSW 2303\, NSW\, 2303
RRULE:FREQ=DAILY;INTERVAL=1;UNTIL=20270609T000000Z
END:VEVENT
END:VCALENDAR
