BEGIN:VCALENDAR
VERSION:2.0
PRODID:-//My Community Diary//iCal Event//EN
CALSCALE:GREGORIAN
METHOD:PUBLISH
BEGIN:VEVENT
UID:a87ac0dc-6b9e-47f1-8ecf-9b5706a3e7df
DTSTAMP:20260422T002811Z
DTSTART;VALUE=DATE:20261214
DTEND;VALUE=DATE:20261215
SUMMARY:Music Trivia at Son Of A Gun Diner
DESCRIPTION:A fun night of games\, prizes\, trivia\, sing a longs and dancing.  \n\nFeaturing music trivia from the past seventy years with new topics weekly.  Free to play\, bookings recomended but not required.
LOCATION:\, 66 Beaumont Street\, Hamilton\, NSW 2303\, NSW\, 2303
RRULE:FREQ=DAILY;INTERVAL=1;UNTIL=20261216T000000Z
END:VEVENT
END:VCALENDAR
