BEGIN:VCALENDAR
VERSION:2.0
PRODID:-//My Community Diary//iCal Event//EN
CALSCALE:GREGORIAN
METHOD:PUBLISH
BEGIN:VEVENT
UID:e1f4482f-238c-454b-bbc0-7a853f9d4a05
DTSTAMP:20260421T211447Z
DTSTART;VALUE=DATE:20261102
DTEND;VALUE=DATE:20261103
SUMMARY:Music Trivia at Son Of A Gun Diner
DESCRIPTION:A fun night of games\, prizes\, trivia\, sing a longs and dancing.  \n\nFeaturing music trivia from the past seventy years with new topics weekly.  Free to play\, bookings recomended but not required.
LOCATION:\, 66 Beaumont Street\, Hamilton\, NSW 2303\, NSW\, 2303
RRULE:FREQ=DAILY;INTERVAL=1;UNTIL=20261104T000000Z
END:VEVENT
END:VCALENDAR
