BEGIN:VCALENDAR
VERSION:2.0
PRODID:-//My Community Diary//iCal Event//EN
CALSCALE:GREGORIAN
METHOD:PUBLISH
BEGIN:VEVENT
UID:e1f5bb0b-2d64-460d-8573-d489e4bddfae
DTSTAMP:20260421T224135Z
DTSTART;VALUE=DATE:20260713
DTEND;VALUE=DATE:20260714
SUMMARY:Music Trivia at Son Of A Gun Diner
DESCRIPTION:A fun night of games\, prizes\, trivia\, sing a longs and dancing.  \n\nFeaturing music trivia from the past seventy years with new topics weekly.  Free to play\, bookings recomended but not required.
LOCATION:\, 66 Beaumont Street\, Hamilton\, NSW 2303\, NSW\, 2303
RRULE:FREQ=DAILY;INTERVAL=1;UNTIL=20260715T000000Z
END:VEVENT
END:VCALENDAR
