BEGIN:VCALENDAR
VERSION:2.0
PRODID:-//My Community Diary//iCal Event//EN
CALSCALE:GREGORIAN
METHOD:PUBLISH
BEGIN:VEVENT
UID:d0360c21-25a7-41d2-8146-03904286c29b
DTSTAMP:20260422T002808Z
DTSTART;VALUE=DATE:20260525
DTEND;VALUE=DATE:20260526
SUMMARY:Music Trivia at Son Of A Gun Diner
DESCRIPTION:A fun night of games\, prizes\, trivia\, sing a longs and dancing.  \n\nFeaturing music trivia from the past seventy years with new topics weekly.  Free to play\, bookings recomended but not required.
LOCATION:\, 66 Beaumont Street\, Hamilton\, NSW 2303\, NSW\, 2303
RRULE:FREQ=DAILY;INTERVAL=1;UNTIL=20260527T000000Z
END:VEVENT
END:VCALENDAR
