BEGIN:VCALENDAR
VERSION:2.0
PRODID:-//My Community Diary//iCal Event//EN
CALSCALE:GREGORIAN
METHOD:PUBLISH
BEGIN:VEVENT
UID:a6881977-1ab6-49e3-a870-253b7383dc00
DTSTAMP:20260422T021823Z
DTSTART;VALUE=DATE:20260808
DTEND;VALUE=DATE:20260809
SUMMARY:Mungindi Show
DESCRIPTION:The Mungindi Show promotes the local community as well as engages other community groups and provides social opportunities and development.\n\nThe main event this year is a Header/Picker Demolition Derby on Saturday afternoon\, the very first event of its kind in New South Wales! \n\nThe show will also feature the amazing Crack Up Sisters\, and Crocodile Encounters. There is a car demo derby\, lawn mower races\, woodchop events\, Bubble Muffin Cooking classes\, Mungindi Aerial lolly drop\, U-Beaut Ute comp\, sideshow alley\, and rides and fireworks. The pavilion will showcase all ages of creativity in the community. \n\nOn Sunday\, the day begins with the Poets Breakfast followed by the pet parade and dog high jump\, billy boiling competition and grain shoveling.\n\nBring the whole family along for a weekend you will not want to miss!\n\nEntry Cost\nAdult $15 \nChild $5  - 12-18yrs\nConcession $5 
LOCATION:\, Mogul Street\, Mungindi\, NSW 2406\, NSW\, 2406
RRULE:FREQ=DAILY;INTERVAL=1;UNTIL=20260810T000000Z
END:VEVENT
END:VCALENDAR
