BEGIN:VCALENDAR
VERSION:2.0
PRODID:-//My Community Diary//iCal Event//EN
CALSCALE:GREGORIAN
METHOD:PUBLISH
BEGIN:VEVENT
UID:620f2813-f452-4136-b0af-963e6bcdd2ac
DTSTAMP:20260422T002949Z
DTSTART;VALUE=DATE:20260704
DTEND;VALUE=DATE:20260705
SUMMARY:Mungindi Races
DESCRIPTION:The Mungindi Cup\, held in early July each year\, is country racing at its best! This event was first held in 1872 and the tradition continues with a six-race strong meeting that is generously supported by our local sponsors.\n\nThe Mungindi Races are perfectly timed with the school holidays for a great family day out. Along with a day of racing\, there will be a President’s Luncheon\, food stalls\, a jumping castle and foot races for all ages.\n\nLive entertainment and a fully licenced bar will be operating into the evening for all racegoers. Fashions-of-the-field remains a key event and attracts many entrants adorned in both traditional and cutting-edge winter races styles. Bookmakers and a TAB are also available for punters on the day.\n\nThe Mungindi Jockey Club\, a volunteer committee\, are delighted to host the Mungindi Cup and look forward to welcoming you trackside!\n\nFor more information visit the Mungindi Jockey Club website\,  or 'like' the Mungindi Races Facebook page.
LOCATION:\, Mogul Street\, Mungindi\, NSW\, NSW
END:VEVENT
END:VCALENDAR
