BEGIN:VCALENDAR
VERSION:2.0
PRODID:-//My Community Diary//iCal Event//EN
CALSCALE:GREGORIAN
METHOD:PUBLISH
BEGIN:VEVENT
UID:5fe09376-1f0b-49ce-9f5f-bbd11c335cf1
DTSTAMP:20260421T205333Z
DTSTART;VALUE=DATE:20261017
DTEND;VALUE=DATE:20261018
SUMMARY:Mudgee Fine Foods Farmers' Markets
DESCRIPTION:Their monthly Farmers' Markets brings the heart and soul of the region's produce together for you to enjoy.  Stroll the diverse stalls\, meet the farmers and growers\, and have your pick of the best locally-grown produce to take home.\n\nFrom olives and fresh cheese\, to flowers and home-baked treats\, the stallholders give the local community and visitors the opportunity to purchase fresh\, locally grown foods\, plants and produce directly from the grower\, while learning about how farm-to-table food is produced.\n\nBy buying at the Mudgee Farmers' Market\, you can be confident you are buying the freshest\, most local produce possible\, while supporting the local community and our farmers.\n\nThe markets are always on come rain\, hail or shine.
LOCATION:\, 97A Market Street\, Mudgee\, NSW 2850\, NSW\, 2850
RRULE:FREQ=DAILY;INTERVAL=1;UNTIL=20261019T000000Z
END:VEVENT
END:VCALENDAR
