BEGIN:VCALENDAR
VERSION:2.0
PRODID:-//My Community Diary//iCal Event//EN
CALSCALE:GREGORIAN
METHOD:PUBLISH
BEGIN:VEVENT
UID:3aea1042-358a-4fa0-ac41-9079e1888ea2
DTSTAMP:20260422T071445Z
DTSTART;VALUE=DATE:20260516
DTEND;VALUE=DATE:20260517
SUMMARY:Mudgee Fine Foods Farmers' Markets
DESCRIPTION:Their monthly Farmers' Markets brings the heart and soul of the region's produce together for you to enjoy.  Stroll the diverse stalls\, meet the farmers and growers\, and have your pick of the best locally-grown produce to take home.\n\nFrom olives and fresh cheese\, to flowers and home-baked treats\, the stallholders give the local community and visitors the opportunity to purchase fresh\, locally grown foods\, plants and produce directly from the grower\, while learning about how farm-to-table food is produced.\n\nBy buying at the Mudgee Farmers' Market\, you can be confident you are buying the freshest\, most local produce possible\, while supporting the local community and our farmers.\n\nThe markets are always on come rain\, hail or shine.
LOCATION:\, 97A Market Street\, Mudgee\, NSW 2850\, NSW\, 2850
RRULE:FREQ=DAILY;INTERVAL=1;UNTIL=20260518T000000Z
END:VEVENT
END:VCALENDAR
