BEGIN:VCALENDAR
VERSION:2.0
PRODID:-//My Community Diary//iCal Event//EN
CALSCALE:GREGORIAN
METHOD:PUBLISH
BEGIN:VEVENT
UID:6d3b99b1-42e1-410c-9fb6-f91797d1d770
DTSTAMP:20260422T003007Z
DTSTART;VALUE=DATE:20260621
DTEND;VALUE=DATE:20260622
SUMMARY:MTB Wagga 3 Hour
DESCRIPTION:The third instalment of the Snowy Riverina 3 X 3 Series.\n\nMTB Wagga 3hr MTB race of a series of three MTB Races for the Riverina. \n\nThe 3x3 series will be in Tumut\, Tumbarumba and Wagga Wagga. All events will have a similar format with a 3-hour track that takes about 30 minutes per lap and a 1-hour track that takes less time.\n\nThis year\, ride all 3 and enter a draw to with a stay at the classy Nimbo  Fork Lodge in Tumut.\n\nEntry Cost\nAdult $65  - Adult race entry fee for individual entry.\n\nPlease see the Series entry for the discounted fee.\nChild $30  - Child Entry Fee
LOCATION:\, Moorong Street\, Wagga Wagga\, NSW 2650\, NSW\, 2650
END:VEVENT
END:VCALENDAR
