BEGIN:VCALENDAR
VERSION:2.0
PRODID:-//My Community Diary//iCal Event//EN
CALSCALE:GREGORIAN
METHOD:PUBLISH
BEGIN:VEVENT
UID:b3d7d12e-ddf1-43d8-865d-de8aaa7dd119
DTSTAMP:20260422T035628Z
DTSTART;VALUE=DATE:20260510
DTEND;VALUE=DATE:20260511
SUMMARY:Mother’s Day Sip & Paint | Mimosas & Masterpieces
DESCRIPTION:Celebrate Mother's Day in style at Elysian Hills with a morning of Mimosas & Masterpieces. Join them for a delightful Sip & Paint experience\, hosted by the wonderful Cathy from Cathyland Art\, the perfect way to sip\, create\, and celebrate Mum.   \n\nRelax and unwind with a refreshing mimosa paired with a selection of freshly baked goods and seasonal fruit. Then let your creativity flow as you paint your own beautiful artwork to take home\, a heartfelt way to celebrate Mum and enjoy meaningful time together.  \n\nSpaces are limited\, so gather your loved ones and make it a Mother's Day to remember. \n\nAfter the session\, continue the celebration and enjoy a delicious lunch at?Potager Restaurant\, the perfect way to continue the celebration and raise a glass to the incredible women in your life.
LOCATION:\, 515 Carool Rd\, Carool\, NSW 2486\, NSW\, 2486
END:VEVENT
END:VCALENDAR
