BEGIN:VCALENDAR
VERSION:2.0
PRODID:-//My Community Diary//iCal Event//EN
CALSCALE:GREGORIAN
METHOD:PUBLISH
BEGIN:VEVENT
UID:765e5153-3abb-4a44-89e0-9698008fce2e
DTSTAMP:20260422T023716Z
DTSTART;VALUE=DATE:20260509
DTEND;VALUE=DATE:20260510
SUMMARY:Mother’s Day Delights at Grossmann House
DESCRIPTION:For a special Mother's Day treat\, take an intriguing tour through historic Grossmann House and enjoy a suitably styled offering of homemade delectables in the garden.\n\nOffering a unique historical twist on the classic celebrations\, Mother's Day at Grossmann House is a special experience.\n\nJoin their knowledgeable guide on a tour of historic Grossmann House\, Maitland's fully restored 1870 Victorian house museum\, to be transported to times gone by.\n\nA delightful array of homemade savoury and sweet treats\, delicious finger sandwiches\, refreshing fruit\, tea\, brewed coffee and juice will be set out for you to enjoy\, and a celebratory glass of sparkling wine will be made available upon your arrival in the beautiful gardens of Brough House.\n\nFor those lucky enough to have already visited these wonderful houses\, there is a refreshments only option.\n\nAll money raised goes to the ongoing maintenance of Grossmann and Brough Houses.\n\nEntry Cost\nMember $40  - National Trust member\nAdult $55 \nConcession $45 
LOCATION:\, 71 Church Street\, Maitland\, NSW 2320\, NSW\, 2320
END:VEVENT
END:VCALENDAR
