BEGIN:VCALENDAR
VERSION:2.0
PRODID:-//My Community Diary//iCal Event//EN
CALSCALE:GREGORIAN
METHOD:PUBLISH
BEGIN:VEVENT
UID:217feb82-c939-4231-ac12-30782d962416
DTSTAMP:20260422T005010Z
DTSTART;VALUE=DATE:20260510
DTEND;VALUE=DATE:20260511
SUMMARY:Mother’s Day Breakfast Cruise on Newcastle Harbour
DESCRIPTION:Celebrate Mum in the most beautiful way\, with a relaxing morning on the water\, delicious breakfast\, and sparkling harbour views\n\nTreat her to a special Mother's Day experience aboard their luxurious vessel and cruise Newcastle Harbour in style. It's the perfect way to say thank you for everything she does.\n\nEntry Cost\nAll tickets $49 
LOCATION:\, Wharf Rd\, Newcastle\, NSW 2300\, NSW\, 2300
END:VEVENT
END:VCALENDAR
