BEGIN:VCALENDAR
VERSION:2.0
PRODID:-//My Community Diary//iCal Event//EN
CALSCALE:GREGORIAN
METHOD:PUBLISH
BEGIN:VEVENT
UID:dbe3564f-2544-4b52-a5ae-6f8ea8d8dd00
DTSTAMP:20260421T224140Z
DTSTART;VALUE=DATE:20260503
DTEND;VALUE=DATE:20260504
SUMMARY:Mother’s Day Bento Cake Decorating
DESCRIPTION:Celebrate Mother's Day with a sweet\, creative experience together.\n\nJoin Alyce from Bento Bakes for a special Mother's Day cake decorating workshop. In this hands-on class\, you & your guest will learn simple piping & decorating techniques while creating your own beautiful 4-inch bento cakes together to take home.\n\nWorkshop is for 2 people and is the perfect way to spoil your mum or spend quality time with your daughter.\n\nMorning tea provided.\n\nEntry Cost\nAll tickets $200 
LOCATION:\, 60 River Street Ballina Boulevard\, Shop 3\, Ballina\, NSW 2478\, NSW\, 2478
END:VEVENT
END:VCALENDAR
