BEGIN:VCALENDAR
VERSION:2.0
PRODID:-//My Community Diary//iCal Event//EN
CALSCALE:GREGORIAN
METHOD:PUBLISH
BEGIN:VEVENT
UID:e5958eb5-60dc-474a-a901-7bc15ee6b1fb
DTSTAMP:20260421T211523Z
DTSTART;VALUE=DATE:20260510
DTEND;VALUE=DATE:20260511
SUMMARY:Mother's Day Morning Tea Cruise
DESCRIPTION:Treat Mum to a unforgettable Mother's Day aboard a special cruise with Lake Macquarie Cruises! Relax and soak in the stunning lake views while enjoying a delicious Devonshire tea and a glass of bubbly. It's the perfect way to show your appreciation and create lasting memories. Book now for a Mother's Day she'll never forget!\n\nEntry Cost\nAdult $60 \nConcession $60 \nChild $40 
LOCATION:\, First Street\, Booragul\, NSW 2284\, NSW\, 2284
END:VEVENT
END:VCALENDAR
