BEGIN:VCALENDAR
VERSION:2.0
PRODID:-//My Community Diary//iCal Event//EN
CALSCALE:GREGORIAN
METHOD:PUBLISH
BEGIN:VEVENT
UID:2da35d61-5508-44ee-8447-5e7555687f17
DTSTAMP:20260422T002803Z
DTSTART;VALUE=DATE:20260510
DTEND;VALUE=DATE:20260511
SUMMARY:Mother's Day Luncheon Cruise
DESCRIPTION:This Mother's Day\, spoil Mum with a memorable lunch cruise across beautiful Newcastle Harbour. Enjoy a delicious meal\, fresh sea air\, and iconic harbour views as you relax and celebrate together. It's a thoughtful and effortless way to say thank you to the women who mean the most—set against one of Newcastle's most stunning backdrops.\n\nEntry Cost\nAdult $90 \nChild $0  - Child (3-14 years)\ninfants (0-2 years) free\nConcession $85 
LOCATION:\, 5 Honeysuckle Drive\, Newcastle\, NSW 2300\, NSW\, 2300
END:VEVENT
END:VCALENDAR
