BEGIN:VCALENDAR
VERSION:2.0
PRODID:-//My Community Diary//iCal Event//EN
CALSCALE:GREGORIAN
METHOD:PUBLISH
BEGIN:VEVENT
UID:73046b85-d50a-4ec5-ba90-7021eff59b23
DTSTAMP:20260422T005112Z
DTSTART;VALUE=DATE:20260510
DTEND;VALUE=DATE:20260511
SUMMARY:Mother's Day Delights at Grossmann  and Brough Houses
DESCRIPTION:Enjoy historic tours\, bubbles and a suitably styled offering of homemade delectables in the garden for a special Mother's Day treat. Offering a unique historical twist on the classic celebrations\, Mother's Day at Grossmann House is a special experience.\n\nJoin knowledgeable guides on a tour of historic Grossmann House\, Maitland's fully restored 1870 Victorian house museum\, to be transported to times gone by.\n\nA delightful array of homemade savory and sweet treats\, delicious finger sandwiches\, refreshing fruit\, tea\, brewed coffee and juice will be set out for you to enjoy\, and a celebratory glass of sparkling wine will be made available upon your arrival in the beautiful gardens of Brough House.\n\nBookings essential\, an option to include the house tour with refreshments is available when booking.\n\nAll money raised goes to the ongoing maintenance of Grossmann and Brough Houses.\n\nIf you can't make Mother's Day\, please note that Grossmann House is open on the second Sunday of each month\, from 10:30 am until 3:00 pm.\n\nEntry Cost\nChild $32.8  - Children under 12\, refreshments only\, no house tour.\nMember $43.33  - Ticket includes refreshments and house tour.\nConcession $48.6  - Full-time students\, pensioners and children ages 5-15 years. Ticket includes refreshments and house tour.\nAdult $43.33  - Refreshments only.\nAdult $59.13  - Refreshments and house tour.
LOCATION:\, 71 Church Street\, Maitland\, NSW 2320\, NSW\, 2320
END:VEVENT
END:VCALENDAR
