BEGIN:VCALENDAR
VERSION:2.0
PRODID:-//My Community Diary//iCal Event//EN
CALSCALE:GREGORIAN
METHOD:PUBLISH
BEGIN:VEVENT
UID:2117b563-6b11-4cfc-b9f0-3ed8e6f63e8a
DTSTAMP:20260422T035606Z
DTSTART;VALUE=DATE:20260510
DTEND;VALUE=DATE:20260511
SUMMARY:Mother's Day Classic Huskisson
DESCRIPTION:The Mother's Day Classic is a nationwide event that raises funds for breast and ovarian cancer research. Huskisson is holding their 10th annual fun run and walk. There will be a 3 km\, 5 km or 10 km walk or run as well as family-friendly events.\n\nHuskisson is a beautiful place to spend the weekend with amazing beaches\, great cafes and restaurants and a variety of accommodations on offer. Bring the whole family and make a weekend of it.
LOCATION:\, Owen Street\, Huskisson\, NSW 2540\, NSW\, 2540
END:VEVENT
END:VCALENDAR
