BEGIN:VCALENDAR
VERSION:2.0
PRODID:-//My Community Diary//iCal Event//EN
CALSCALE:GREGORIAN
METHOD:PUBLISH
BEGIN:VEVENT
UID:bdaf7de1-79d7-4655-83ba-e7a13828c5d8
DTSTAMP:20260422T002839Z
DTSTART;VALUE=DATE:20260510
DTEND;VALUE=DATE:20260511
SUMMARY:Mother's Day Classic – Ballina
DESCRIPTION:Mother's Day Classic – Ballina returns to Missingham Park\, inviting the community to come together for a morning of movement\, connection and purpose.\n\nSet along the picturesque Richmond River\, the event welcomes participants of all ages and abilities to run or walk 4 kilometres in support of breast and ovarian cancer research.\n\nThe morning begins at 7:30am with the opening of the Event Village and registrations. The 4km run commences at 8:00am and 8:15am\, followed by the 4km walk at 8:45am and 9:00am.\n\nBeyond the course\, the vibrant Event Village offers a range of activities and stalls designed to create a meaningful and memorable experience. Participants can visit the Registration Marquee\, reflect at the Honor Wall\, decorate a race bib\, create friendship bracelets\, enjoy face painting\, and take part in the special mini event\, the Rainbow Scavenger Hunt. There will be plenty more to explore throughout the morning.\n\nWhether running\, walking\, volunteering or cheering from the sidelines\, the Mother's Day Classic – Ballina provides an opportunity to honour loved ones\, celebrate community spirit and contribute to vital cancer research.\n\nRegistrations to participate or volunteer are available online via the official Mother's Day Classic website.
LOCATION:\, Kingsford Smith Drive\, Ballina\, NSW 2478\, NSW\, 2478
END:VEVENT
END:VCALENDAR
