BEGIN:VCALENDAR
VERSION:2.0
PRODID:-//My Community Diary//iCal Event//EN
CALSCALE:GREGORIAN
METHOD:PUBLISH
BEGIN:VEVENT
UID:2a865380-b7f5-4b86-969b-a21938af5608
DTSTAMP:20260423T140349Z
DTSTART;VALUE=DATE:20260510
DTEND;VALUE=DATE:20260511
SUMMARY:Mother's Day | Dinner | Newcastle Harbour Cruise
DESCRIPTION:Celebrate Mum in the most beautiful way\, with a celebratory dinner on the water\, delicious food\, and sparkling harbour views\n\nTreat her to a special Mother's Day experience aboard their luxurious vessel and cruise Newcastle Harbour in style. It's the perfect way to say thank you for everything she does.\n\nEntry Cost\nAll tickets $49 
LOCATION:\, Wharf Rd\, Newcastle\, NSW 2300\, NSW\, 2300
END:VEVENT
END:VCALENDAR
