BEGIN:VCALENDAR
VERSION:2.0
PRODID:-//My Community Diary//iCal Event//EN
CALSCALE:GREGORIAN
METHOD:PUBLISH
BEGIN:VEVENT
UID:2b291698-65a6-44c4-89fb-2c07289a70ca
DTSTAMP:20260422T073422Z
DTSTART;VALUE=DATE:20260823
DTEND;VALUE=DATE:20260824
SUMMARY:Moroccan Feast
DESCRIPTION:Nothing beats wandering through the souks of Morocco. Enjoy the flavours of Casablanca and Marrakesh as you discover the secret spices and techniques of Moroccan Cuisine and tagines.\n\nAll these dishes will come together to create a Moroccan Feast!\n\nClass includes tuition\, recipes and meals with regional wine\, beer or soft drinks.\n\nEntry Cost\nAll tickets $215 
LOCATION:\, 29 Kunzea Place\, Springvale\, NSW 2650\, NSW\, 2650
END:VEVENT
END:VCALENDAR
