BEGIN:VCALENDAR
VERSION:2.0
PRODID:-//My Community Diary//iCal Event//EN
CALSCALE:GREGORIAN
METHOD:PUBLISH
BEGIN:VEVENT
UID:58ad622a-c207-45d5-bac6-3f6700621d2b
DTSTAMP:20260422T020910Z
DTSTART;VALUE=DATE:20260509
DTEND;VALUE=DATE:20260510
SUMMARY:Moree on a Plate
DESCRIPTION:Moree on a Plate will feature a celebrity chef\, live cooking demonstrations\, and engaging cooking shows\, alongside a vibrant program of live entertainment throughout the event. Guests will be immersed in an inspiring celebration of food\, wine\, and the arts\, showcasing the creativity and culture of the region.\n\nVisitors can indulge in a delicious array of local and regional producers\, offering everything from gourmet bites to beautifully crafted beverages. The popular Mixed Grill will bring together a variety of flavours and food experiences\, ensuring there is something to suit every palate.\n\nFamilies are well catered for\, with dedicated kids' entertainment and the much-loved Kids Korner providing fun\, interactive activities to keep younger visitors entertained while parents relax and enjoy the event.
LOCATION:\, Boggabilla Rd\, Moree\, NSW 2400\, NSW\, 2400
END:VEVENT
END:VCALENDAR
