BEGIN:VCALENDAR
VERSION:2.0
PRODID:-//My Community Diary//iCal Event//EN
CALSCALE:GREGORIAN
METHOD:PUBLISH
BEGIN:VEVENT
UID:d2301cf2-d537-473d-add3-b939a5b1b7f9
DTSTAMP:20260422T005233Z
DTSTART;VALUE=DATE:20260426
DTEND;VALUE=DATE:20260427
SUMMARY:Monster Truck Mania Live Sydney
DESCRIPTION:Monster Truck Mania Live returns to Qudos Bank Arena.\n\nShare with family and friends\, and book tickets today to secure the best seats via Ticketek!\n\nWith action-packed weekend events in air-conditioned all-weather comfort\, surrounded by giant screens and blazing floodlights\, there isn't a bad seat in the house.\n\nFeaturing Monster trucks Wacky Doo\, Wicked\, Buddy\, Raptor's Rampage\, Blazed\, Miss Mayhem and many more of the biggest Monster Trucks in Australia.\n\nIt's more than just Monster Trucks\, the action never stops with FMX Freestyle Motocross\, our Flaming Yaris Jetcar and great family-friendly support acts.\n\nBuckle up and get ready for a spectacular afternoon of family fun.\n\nNo other show in Australia provides the experience\, thrill and spectacle of Australia's best monster truck show this close to the action!\n\nUpgrade to VIP Pit Party tickets for the best seats in the house! VIPs will receive exclusive pre-event access to meet and take selfies with trucks and drivers\, commemorative lanyard\, track walk and a whole lot more. \n\nKids under three years 'Free On The Lap' with an adult ticket holder. Discounted tickets for Juniors (3-15 years old) and Families (2 adult & 2 juniors).\n\nThe shows bring smiles to young and old thrill seekers and create lifelong family memories!
LOCATION:\, 19 Edwin Flack Ave\, Sydney Olympic Park\, NSW 2127\, NSW\, 2127
RRULE:FREQ=DAILY;INTERVAL=1;UNTIL=20260428T000000Z
END:VEVENT
END:VCALENDAR
