BEGIN:VCALENDAR
VERSION:2.0
PRODID:-//My Community Diary//iCal Event//EN
CALSCALE:GREGORIAN
METHOD:PUBLISH
BEGIN:VEVENT
UID:38535e32-2308-4781-8ece-1e1a2fecc180
DTSTAMP:20260423T140251Z
DTSTART;VALUE=DATE:20260607
DTEND;VALUE=DATE:20260608
SUMMARY:Monaro Race Day at Sapphire Coast Turf Club
DESCRIPTION:It's Monaro Race Day at Sapphire Coast Turf Club! \n\nLocated just 15 minutes from Merimbula on the far south coast\, it is with good reason that the Sapphire Coast Turf Club is fast becoming one of the most popular tracks in regional New South Wales. An immaculately presented racecourse set within beautiful bushland\, it is a stunning vision that sets the scene for exhilarating and fun-filled race days.\n\nBoasting modern and sophisticated facilities\, the Club hosts twelve race meetings each season\, which attract large crowds of up to 3000 people. Local and interstate jockeys\, trainers\, owners and punters are drawn to the Sapphire Coast Turf Club\, ensuring high-class fields at all race meets. \n\nHead to the track for a terrific day. Seven race TAB meet\, bars and a kiosk with free buses to and from the track. See the website for times and pick-up locations of buses.\n\nEntry Cost\nAdult $15  - Children under 18 are free
LOCATION:\, 1695 Sapphire Coast Drive\, Kalaru\, NSW 2550\, NSW\, 2550
END:VEVENT
END:VCALENDAR
