BEGIN:VCALENDAR
VERSION:2.0
PRODID:-//My Community Diary//iCal Event//EN
CALSCALE:GREGORIAN
METHOD:PUBLISH
BEGIN:VEVENT
UID:d8da9327-e31f-4da6-a986-dd6bb8243d13
DTSTAMP:20260422T020153Z
DTSTART;VALUE=DATE:20260531
DTEND;VALUE=DATE:20260601
SUMMARY:Mollymook Beach Lions Markets
DESCRIPTION:Mollymook Beach Lions Markets is a haven for bargain hunters\, savvy buyers and fun-loving browsers to enjoy an amazing and varied collection of thousands of items.\n\nFresh and home cooked products\, arts\, crafts\, pre-loved books\, clothes\, jewellery\, plants\, preserves\, smallgoods\, artisan-breads\, coffees\, and much loved Lions donuts are a few of the delights to be discovered\, while the kids line up for the merry-go-round and check out toys on offer.\n\nThe stunning location and friendly Lions volunteers (in their distinctive yellow T-shirts) make our beachside markets a popular and much anticipated event\, and we look forward to seeing you there.
LOCATION:\, Mitchell Parade\, Mollymook Beach\, NSW 2539\, NSW\, 2539
RRULE:FREQ=DAILY;INTERVAL=1;UNTIL=20260602T000000Z
END:VEVENT
END:VCALENDAR
