BEGIN:VCALENDAR
VERSION:2.0
PRODID:-//My Community Diary//iCal Event//EN
CALSCALE:GREGORIAN
METHOD:PUBLISH
BEGIN:VEVENT
UID:e986c948-1dd3-4e56-81a8-7f6760bc8891
DTSTAMP:20260422T015636Z
DTSTART;VALUE=DATE:20261025
DTEND;VALUE=DATE:20261026
SUMMARY:Moama Motorama
DESCRIPTION:Get ready for the Moama Motorama event that brings together the best of the automotive industry in the beautiful Echuca-Moama region.\n\nDesigned to celebrate everything on wheels\, Moama Motorama welcomes all makes and models - including stock vehicles\, modified cars\, unrestored originals\, and timeless classics. It's a celebration of motoring in all its forms\, and everyone is welcome to be part of it.\n\nThe weekend-long festival will feature a diverse range of activities\, including vibrant street displays\, a fun and interactive mystery run\, a judged Show n Shine\, live music and entertainment and plenty more\, with a strong focus on family fun and community involvement.\n\nThis is a fresh new event designed to bring motoring lovers and families together in a relaxed\, vibrant setting.\n\nFestivalgoers are encouraged to secure accommodation early\, as the Echuca-Moama region is expected to fill fast with visitors.\n\nKeep up to date at the website\, and please voice your opinions and suggestions via the Facebook page.
LOCATION:\, Meninya Street\, Moama\, NSW 2731\, NSW\, 2731
RRULE:FREQ=DAILY;INTERVAL=1;UNTIL=20261027T000000Z
END:VEVENT
END:VCALENDAR
