BEGIN:VCALENDAR
VERSION:2.0
PRODID:-//My Community Diary//iCal Event//EN
CALSCALE:GREGORIAN
METHOD:PUBLISH
BEGIN:VEVENT
UID:1d7e0836-dfe4-471b-ad5a-a1a03b581096
DTSTAMP:20260422T021101Z
DTSTART;VALUE=DATE:20260425
DTEND;VALUE=DATE:20260426
SUMMARY:Mio Cappello x Terrigal Beach House
DESCRIPTION:This autumn\, the Garden Bar transforms as Mio Cappello takes over Terrigal Beach House for a stylish seasonal activation celebrating sunshine\, sparkle and seaside glamour.\n\nWhile Mio Cappello Prosecco takes centre stage\, your favourite Garden Bar sips are still available\, so everyone can enjoy their drink of choice.
LOCATION:\, 40 Terrigal Esplanade\, Terrigal\, NSW 2260\, NSW\, 2260
RRULE:FREQ=DAILY;INTERVAL=1;UNTIL=20260427T000000Z
END:VEVENT
END:VCALENDAR
