BEGIN:VCALENDAR
VERSION:2.0
PRODID:-//My Community Diary//iCal Event//EN
CALSCALE:GREGORIAN
METHOD:PUBLISH
BEGIN:VEVENT
UID:a6201d79-3e85-47d5-8cce-cb43bd396a15
DTSTAMP:20260422T035609Z
DTSTART;VALUE=DATE:20260422
DTEND;VALUE=DATE:20260423
SUMMARY:Mio Cappello x Terrigal Beach House
DESCRIPTION:This autumn\, the Garden Bar transforms as Mio Cappello takes over Terrigal Beach House for a stylish seasonal activation celebrating sunshine\, sparkle and seaside glamour.\n\nWhile Mio Cappello Prosecco takes centre stage\, your favourite Garden Bar sips are still available\, so everyone can enjoy their drink of choice.
LOCATION:\, 40 Terrigal Esplanade\, Terrigal\, NSW 2260\, NSW\, 2260
RRULE:FREQ=DAILY;INTERVAL=1;UNTIL=20260424T000000Z
END:VEVENT
END:VCALENDAR
