BEGIN:VCALENDAR
VERSION:2.0
PRODID:-//My Community Diary//iCal Event//EN
CALSCALE:GREGORIAN
METHOD:PUBLISH
BEGIN:VEVENT
UID:5fa5288d-be8f-4652-a09c-cd048e14450e
DTSTAMP:20260421T211432Z
DTSTART;VALUE=DATE:20270314
DTEND;VALUE=DATE:20270315
SUMMARY:Minerama Fossicking\, Gem and Jewellery Show
DESCRIPTION:Minerama is a must-attend event for gem nuts\, rock hounds\, and lovers of bling and shiny things!\n\nWith indoor and outdoor trade stalls selling gemstone rough\, fine jewellery and everything in between\, workshops and demonstrations\, fun activities for kids\, and delicious food and drink\, there’s something for everyone.\n\nIt's a great weekend and fun for the whole family\, with a wealth of gems just waiting to be unearthed.\n\nHeld at the picturesque Glen Innes Showgrounds\, attend the show for an exciting day trip or a weekend away in the beautiful Glen Innes Highlands.\n\nEntry Cost\nAll tickets $5  - $5 per day entry\, FREE for ages 16 and under if accompanied by a paying parent/guardian!
LOCATION:\, Torrington Street\, Glen Innes\, NSW 2370\, NSW\, 2370
RRULE:FREQ=DAILY;INTERVAL=1;UNTIL=20270316T000000Z
END:VEVENT
END:VCALENDAR
